Package: SIAMCAT Version: 2.13.0 Command: /home/biocbuild/R/R/bin/R CMD INSTALL SIAMCAT StartedAt: 2025-10-23 20:41:57 -0000 (Thu, 23 Oct 2025) EndedAt: 2025-10-23 20:42:37 -0000 (Thu, 23 Oct 2025) EllapsedTime: 39.9 seconds RetCode: 0 Status: OK