Package: SIAMCAT Version: 2.13.0 Command: /Library/Frameworks/R.framework/Resources/bin/R CMD check --install=check:SIAMCAT.install-out.txt --library=/Library/Frameworks/R.framework/Resources/library --no-vignettes --timings SIAMCAT_2.13.0.tar.gz StartedAt: 2025-10-01 21:50:54 -0400 (Wed, 01 Oct 2025) EndedAt: 2025-10-01 21:52:35 -0400 (Wed, 01 Oct 2025) EllapsedTime: 101.2 seconds RetCode: 0 Status: OK CheckDir: SIAMCAT.Rcheck Warnings: 0