Package: SIAMCAT Version: 2.13.0 Command: /Library/Frameworks/R.framework/Resources/bin/R CMD build --keep-empty-dirs --no-resave-data SIAMCAT StartedAt: 2025-10-01 17:51:28 -0400 (Wed, 01 Oct 2025) EndedAt: 2025-10-01 17:52:57 -0400 (Wed, 01 Oct 2025) EllapsedTime: 89.0 seconds RetCode: 0 Status: OK PackageFile: SIAMCAT_2.13.0.tar.gz PackageFileSize: 18.86 MiB