Package: SIAMCAT Version: 2.13.0 Command: rm -rf SIAMCAT.buildbin-libdir && mkdir SIAMCAT.buildbin-libdir && /Users/biocbuild/BBS/utils/build-universal.sh SIAMCAT_2.13.0.tar.gz /Library/Frameworks/R.framework/Resources/bin/R SIAMCAT.buildbin-libdir StartedAt: 2025-10-02 23:20:24 -0400 (Thu, 02 Oct 2025) EndedAt: 2025-10-02 23:20:38 -0400 (Thu, 02 Oct 2025) EllapsedTime: 14.3 seconds RetCode: 0 Status: OK PackageFile: SIAMCAT_2.13.0.tgz PackageFileSize: 10.76 MiB