Package: SGSeq Version: 1.43.1 Command: /home/biocbuild/R/R/bin/R CMD check --install=check:SGSeq.install-out.txt --library=/home/biocbuild/R/R/site-library --no-vignettes --timings SGSeq_1.43.1.tar.gz StartedAt: 2025-10-17 13:37:29 -0000 (Fri, 17 Oct 2025) EndedAt: 2025-10-17 13:50:20 -0000 (Fri, 17 Oct 2025) EllapsedTime: 771.2 seconds RetCode: 0 Status: OK CheckDir: SGSeq.Rcheck Warnings: 0