Package: SGSeq Version: 1.43.1 Command: F:\biocbuild\bbs-3.22-bioc\R\bin\R.exe CMD check --no-multiarch --install=check:SGSeq.install-out.txt --library=F:\biocbuild\bbs-3.22-bioc\R\library --no-vignettes --timings SGSeq_1.43.1.tar.gz StartedAt: 2025-08-15 07:51:15 -0400 (Fri, 15 Aug 2025) EndedAt: 2025-08-15 08:02:50 -0400 (Fri, 15 Aug 2025) EllapsedTime: 694.6 seconds RetCode: 0 Status: OK CheckDir: SGSeq.Rcheck Warnings: 0