Package: SGSeq Version: 1.43.1 Command: /home/biocbuild/bbs-3.22-bioc/R/bin/R CMD INSTALL SGSeq StartedAt: 2025-10-19 15:44:44 -0400 (Sun, 19 Oct 2025) EndedAt: 2025-10-19 15:45:25 -0400 (Sun, 19 Oct 2025) EllapsedTime: 40.2 seconds RetCode: 0 Status: OK