Package: SGSeq Version: 1.43.1 Command: /home/biocbuild/bbs-3.22-bioc/R/bin/R CMD build --keep-empty-dirs --no-resave-data --md5 SGSeq StartedAt: 2025-10-20 19:59:16 -0400 (Mon, 20 Oct 2025) EndedAt: 2025-10-20 20:02:36 -0400 (Mon, 20 Oct 2025) EllapsedTime: 200.2 seconds RetCode: 0 Status: OK PackageFile: SGSeq_1.43.1.tar.gz PackageFileSize: 1.76 MiB