Package: SGSeq Version: 1.43.1 Command: /Library/Frameworks/R.framework/Resources/bin/R CMD INSTALL SGSeq StartedAt: 2025-10-22 15:38:25 -0400 (Wed, 22 Oct 2025) EndedAt: 2025-10-22 15:39:21 -0400 (Wed, 22 Oct 2025) EllapsedTime: 55.6 seconds RetCode: 0 Status: OK