Package: SGSeq Version: 1.43.1 Command: /Library/Frameworks/R.framework/Resources/bin/R CMD build --keep-empty-dirs --no-resave-data SGSeq StartedAt: 2025-10-22 18:41:05 -0400 (Wed, 22 Oct 2025) EndedAt: 2025-10-22 18:45:15 -0400 (Wed, 22 Oct 2025) EllapsedTime: 250.2 seconds RetCode: 0 Status: OK PackageFile: SGSeq_1.43.1.tar.gz PackageFileSize: 1.763 MiB