Package: SGSeq Version: 1.43.1 Command: rm -rf SGSeq.buildbin-libdir && mkdir SGSeq.buildbin-libdir && /Users/biocbuild/BBS/utils/build-universal.sh SGSeq_1.43.1.tar.gz /Library/Frameworks/R.framework/Resources/bin/R SGSeq.buildbin-libdir StartedAt: 2025-10-23 01:56:36 -0400 (Thu, 23 Oct 2025) EndedAt: 2025-10-23 01:57:35 -0400 (Thu, 23 Oct 2025) EllapsedTime: 58.8 seconds RetCode: 0 Status: OK PackageFile: SGSeq_1.43.1.tgz PackageFileSize: 1.803 MiB