Package: SGSeq Version: 1.43.1 Command: /Library/Frameworks/R.framework/Resources/bin/R CMD INSTALL SGSeq StartedAt: 2025-10-21 15:23:37 -0400 (Tue, 21 Oct 2025) EndedAt: 2025-10-21 15:23:53 -0400 (Tue, 21 Oct 2025) EllapsedTime: 15.8 seconds RetCode: 0 Status: OK