Package: SGSeq Version: 1.43.1 Command: /Library/Frameworks/R.framework/Resources/bin/R CMD check --install=check:SGSeq.install-out.txt --library=/Library/Frameworks/R.framework/Resources/library --no-vignettes --timings SGSeq_1.43.1.tar.gz StartedAt: 2025-10-21 22:03:38 -0400 (Tue, 21 Oct 2025) EndedAt: 2025-10-21 22:06:43 -0400 (Tue, 21 Oct 2025) EllapsedTime: 184.3 seconds RetCode: 0 Status: OK CheckDir: SGSeq.Rcheck Warnings: 0