Package: SGCP Version: 1.9.0 Command: /home/biocbuild/R/R/bin/R CMD check --install=check:SGCP.install-out.txt --library=/home/biocbuild/R/R/site-library --no-vignettes --timings SGCP_1.9.0.tar.gz StartedAt: 2025-09-09 11:14:08 -0000 (Tue, 09 Sep 2025) EndedAt: 2025-09-09 11:20:05 -0000 (Tue, 09 Sep 2025) EllapsedTime: 356.5 seconds RetCode: 0 Status: OK CheckDir: SGCP.Rcheck Warnings: 0