Package: SGCP Version: 1.9.0 Command: /home/biocbuild/R/R/bin/R CMD build --keep-empty-dirs --no-resave-data SGCP StartedAt: 2025-10-21 03:08:11 -0000 (Tue, 21 Oct 2025) EndedAt: 2025-10-21 03:09:45 -0000 (Tue, 21 Oct 2025) EllapsedTime: 94.0 seconds RetCode: 1 Status: ERROR PackageFile: None PackageFileSize: NA