Package: SGCP Version: 1.9.0 Command: F:\biocbuild\bbs-3.22-bioc\R\bin\R.exe CMD INSTALL SGCP StartedAt: 2025-08-14 16:33:19 -0400 (Thu, 14 Aug 2025) EndedAt: 2025-08-14 16:35:01 -0400 (Thu, 14 Aug 2025) EllapsedTime: 102.0 seconds RetCode: 0 Status: OK