Package: SGCP Version: 1.9.0 Command: chmod a+r SGCP -R && F:\biocbuild\bbs-3.22-bioc\R\bin\R.exe CMD build --keep-empty-dirs --no-resave-data SGCP StartedAt: 2025-08-14 23:15:38 -0400 (Thu, 14 Aug 2025) EndedAt: 2025-08-14 23:18:43 -0400 (Thu, 14 Aug 2025) EllapsedTime: 185.3 seconds RetCode: 0 Status: OK PackageFile: SGCP_1.9.0.tar.gz PackageFileSize: 1.294 MiB