Package: SGCP Version: 1.9.0 Command: rm -rf SGCP.buildbin-libdir && mkdir SGCP.buildbin-libdir && F:\biocbuild\bbs-3.22-bioc\R\bin\R.exe CMD INSTALL --build --library=SGCP.buildbin-libdir SGCP_1.9.0.tar.gz StartedAt: 2025-08-15 11:18:53 -0400 (Fri, 15 Aug 2025) EndedAt: 2025-08-15 11:20:44 -0400 (Fri, 15 Aug 2025) EllapsedTime: 111.2 seconds RetCode: 0 Status: OK PackageFile: SGCP_1.9.0.zip PackageFileSize: 2.635 MiB