Package: SGCP Version: 1.9.0 Command: /Library/Frameworks/R.framework/Resources/bin/R CMD check --install=check:SGCP.install-out.txt --library=/Library/Frameworks/R.framework/Resources/library --no-vignettes --timings SGCP_1.9.0.tar.gz StartedAt: 2025-09-10 22:40:08 -0400 (Wed, 10 Sep 2025) EndedAt: 2025-09-10 22:42:05 -0400 (Wed, 10 Sep 2025) EllapsedTime: 116.4 seconds RetCode: 0 Status: OK CheckDir: SGCP.Rcheck Warnings: 0