Package: SEraster Version: 1.2.0 Command: /home/biocbuild/R/R/bin/R CMD check --install=check:SEraster.install-out.txt --library=/home/biocbuild/R/R/site-library --no-vignettes --timings SEraster_1.2.0.tar.gz StartedAt: 2025-11-21 15:46:58 -0000 (Fri, 21 Nov 2025) EndedAt: 2025-11-21 15:53:06 -0000 (Fri, 21 Nov 2025) EllapsedTime: 368.7 seconds RetCode: 0 Status: OK CheckDir: SEraster.Rcheck Warnings: 0