Package: SEraster Version: 1.2.0 Command: /Library/Frameworks/R.framework/Resources/bin/R CMD check --install=check:SEraster.install-out.txt --library=/Library/Frameworks/R.framework/Resources/library --no-vignettes --timings SEraster_1.2.0.tar.gz StartedAt: 2025-11-21 11:42:34 -0500 (Fri, 21 Nov 2025) EndedAt: 2025-11-21 11:51:33 -0500 (Fri, 21 Nov 2025) EllapsedTime: 538.2 seconds RetCode: 0 Status: OK CheckDir: SEraster.Rcheck Warnings: 0