Package: SEraster Version: 1.2.0 Command: rm -rf SEraster.buildbin-libdir && mkdir SEraster.buildbin-libdir && /Users/biocbuild/BBS/utils/build-universal.sh SEraster_1.2.0.tar.gz /Library/Frameworks/R.framework/Resources/bin/R SEraster.buildbin-libdir StartedAt: 2025-11-21 15:38:29 -0500 (Fri, 21 Nov 2025) EndedAt: 2025-11-21 15:39:34 -0500 (Fri, 21 Nov 2025) EllapsedTime: 64.2 seconds RetCode: 0 Status: OK PackageFile: SEraster_1.2.0.tgz PackageFileSize: 3.201 MiB