Package: SEraster Version: 1.2.0 Command: /Library/Frameworks/R.framework/Resources/bin/R CMD build --keep-empty-dirs --no-resave-data SEraster StartedAt: 2025-11-03 18:46:44 -0500 (Mon, 03 Nov 2025) EndedAt: 2025-11-03 18:53:35 -0500 (Mon, 03 Nov 2025) EllapsedTime: 410.9 seconds RetCode: 0 Status: OK PackageFile: SEraster_1.2.0.tar.gz PackageFileSize: 3.164 MiB