Package: SEraster Version: 1.2.0 Command: /Library/Frameworks/R.framework/Resources/bin/R CMD INSTALL SEraster StartedAt: 2025-11-10 15:12:46 -0500 (Mon, 10 Nov 2025) EndedAt: 2025-11-10 15:12:57 -0500 (Mon, 10 Nov 2025) EllapsedTime: 11.3 seconds RetCode: 0 Status: OK