Package: SEraster Version: 1.2.0 Command: /Library/Frameworks/R.framework/Resources/bin/R CMD build --keep-empty-dirs --no-resave-data SEraster StartedAt: 2025-11-10 17:44:35 -0500 (Mon, 10 Nov 2025) EndedAt: 2025-11-10 17:47:28 -0500 (Mon, 10 Nov 2025) EllapsedTime: 173.0 seconds RetCode: 0 Status: OK PackageFile: SEraster_1.2.0.tar.gz PackageFileSize: 3.164 MiB