Package: SEraster Version: 1.2.0 Maintainer: Gohta Aihara MaintainerEmail: gohta.aihara at gmail.com git_url: https://git.bioconductor.org/packages/SEraster git_branch: RELEASE_3_22 git_last_commit: 804b492 git_last_commit_date: 2025-10-29 11:35:58 -0500 (Wed, 29 Oct 2025)