Package: SETA Version: 0.99.7 Command: /home/biocbuild/R/R/bin/R CMD INSTALL SETA StartedAt: 2025-10-23 20:39:26 -0000 (Thu, 23 Oct 2025) EndedAt: 2025-10-23 20:39:57 -0000 (Thu, 23 Oct 2025) EllapsedTime: 31.0 seconds RetCode: 0 Status: OK