Package: SETA Version: 0.99.6 Command: /home/biocbuild/R/R/bin/R CMD build --keep-empty-dirs --no-resave-data SETA StartedAt: 2025-10-21 03:07:41 -0000 (Tue, 21 Oct 2025) EndedAt: 2025-10-21 03:10:17 -0000 (Tue, 21 Oct 2025) EllapsedTime: 156.1 seconds RetCode: 0 Status: OK PackageFile: SETA_0.99.6.tar.gz PackageFileSize: 2.498 MiB