Package: SETA Version: 0.99.6 Command: /home/biocbuild/bbs-3.22-bioc/R/bin/R CMD INSTALL SETA StartedAt: 2025-10-21 15:22:07 -0400 (Tue, 21 Oct 2025) EndedAt: 2025-10-21 15:22:31 -0400 (Tue, 21 Oct 2025) EllapsedTime: 23.3 seconds RetCode: 0 Status: OK