Package: SETA Version: 0.99.6 Command: /home/biocbuild/bbs-3.22-bioc/R/bin/R CMD build --keep-empty-dirs --no-resave-data --md5 SETA StartedAt: 2025-10-21 20:03:04 -0400 (Tue, 21 Oct 2025) EndedAt: 2025-10-21 20:04:28 -0400 (Tue, 21 Oct 2025) EllapsedTime: 84.1 seconds RetCode: 0 Status: OK PackageFile: SETA_0.99.6.tar.gz PackageFileSize: 4.666 MiB