Package: SETA Version: 0.99.6 Command: /Library/Frameworks/R.framework/Resources/bin/R CMD INSTALL SETA StartedAt: 2025-10-21 15:23:09 -0400 (Tue, 21 Oct 2025) EndedAt: 2025-10-21 15:23:41 -0400 (Tue, 21 Oct 2025) EllapsedTime: 31.7 seconds RetCode: 0 Status: OK