Package: SETA Version: 0.99.6 Command: rm -rf SETA.buildbin-libdir && mkdir SETA.buildbin-libdir && /Users/biocbuild/BBS/utils/build-universal.sh SETA_0.99.6.tar.gz /Library/Frameworks/R.framework/Resources/bin/R SETA.buildbin-libdir StartedAt: 2025-10-21 23:17:49 -0400 (Tue, 21 Oct 2025) EndedAt: 2025-10-21 23:18:00 -0400 (Tue, 21 Oct 2025) EllapsedTime: 11.3 seconds RetCode: 0 Status: OK PackageFile: SETA_0.99.6.tgz PackageFileSize: 4.973 MiB