Package: SELEX Version: 1.41.0 Command: /home/biocbuild/bbs-3.22-bioc/R/bin/R CMD check --install=check:SELEX.install-out.txt --library=/home/biocbuild/bbs-3.22-bioc/R/site-library --timings SELEX_1.41.0.tar.gz StartedAt: 2025-10-21 04:35:57 -0400 (Tue, 21 Oct 2025) EndedAt: 2025-10-21 04:37:34 -0400 (Tue, 21 Oct 2025) EllapsedTime: 97.1 seconds RetCode: 0 Status: OK CheckDir: SELEX.Rcheck Warnings: 0