Package: SELEX Version: 1.41.0 Command: /Library/Frameworks/R.framework/Resources/bin/R CMD INSTALL SELEX StartedAt: 2025-10-22 15:18:14 -0400 (Wed, 22 Oct 2025) EndedAt: 2025-10-22 15:18:29 -0400 (Wed, 22 Oct 2025) EllapsedTime: 15.5 seconds RetCode: 0 Status: OK