Package: SELEX Version: 1.41.0 Command: /Library/Frameworks/R.framework/Resources/bin/R CMD check --install=check:SELEX.install-out.txt --library=/Library/Frameworks/R.framework/Resources/library --no-vignettes --timings SELEX_1.41.0.tar.gz StartedAt: 2025-10-23 00:05:03 -0400 (Thu, 23 Oct 2025) EndedAt: 2025-10-23 00:06:54 -0400 (Thu, 23 Oct 2025) EllapsedTime: 111.0 seconds RetCode: 0 Status: OK CheckDir: SELEX.Rcheck Warnings: 0