Package: SDAMS Version: 1.29.0 Command: /home/biocbuild/R/R/bin/R CMD INSTALL SDAMS StartedAt: 2025-10-16 21:46:35 -0000 (Thu, 16 Oct 2025) EndedAt: 2025-10-16 21:47:14 -0000 (Thu, 16 Oct 2025) EllapsedTime: 39.1 seconds RetCode: 0 Status: OK