Package: SDAMS Version: 1.29.0 Command: rm -rf SDAMS.buildbin-libdir && mkdir SDAMS.buildbin-libdir && F:\biocbuild\bbs-3.22-bioc\R\bin\R.exe CMD INSTALL --build --library=SDAMS.buildbin-libdir SDAMS_1.29.0.tar.gz StartedAt: 2025-08-15 11:17:13 -0400 (Fri, 15 Aug 2025) EndedAt: 2025-08-15 11:17:49 -0400 (Fri, 15 Aug 2025) EllapsedTime: 36.3 seconds RetCode: 0 Status: OK PackageFile: SDAMS_1.29.0.zip PackageFileSize: 988.8 KiB