Package: SDAMS Version: 1.29.0 Command: /home/biocbuild/bbs-3.22-bioc/R/bin/R CMD build --keep-empty-dirs --no-resave-data --md5 SDAMS StartedAt: 2025-10-22 20:01:52 -0400 (Wed, 22 Oct 2025) EndedAt: 2025-10-22 20:02:43 -0400 (Wed, 22 Oct 2025) EllapsedTime: 51.1 seconds RetCode: 0 Status: OK PackageFile: SDAMS_1.29.0.tar.gz PackageFileSize: 1.282 MiB