Package: SDAMS Version: 1.29.0 Command: /Library/Frameworks/R.framework/Resources/bin/R CMD INSTALL SDAMS StartedAt: 2025-10-20 15:28:06 -0400 (Mon, 20 Oct 2025) EndedAt: 2025-10-20 15:28:46 -0400 (Mon, 20 Oct 2025) EllapsedTime: 40.0 seconds RetCode: 0 Status: OK