Package: SDAMS Version: 1.29.0 Command: /Library/Frameworks/R.framework/Resources/bin/R CMD check --install=check:SDAMS.install-out.txt --library=/Library/Frameworks/R.framework/Resources/library --no-vignettes --timings SDAMS_1.29.0.tar.gz StartedAt: 2025-10-20 01:37:04 -0400 (Mon, 20 Oct 2025) EndedAt: 2025-10-20 01:41:28 -0400 (Mon, 20 Oct 2025) EllapsedTime: 263.8 seconds RetCode: 0 Status: OK CheckDir: SDAMS.Rcheck Warnings: 0