Package: SDAMS Version: 1.29.0 Command: rm -rf SDAMS.buildbin-libdir && mkdir SDAMS.buildbin-libdir && /Users/biocbuild/BBS/utils/build-universal.sh SDAMS_1.29.0.tar.gz /Library/Frameworks/R.framework/Resources/bin/R SDAMS.buildbin-libdir StartedAt: 2025-10-20 23:16:42 -0400 (Mon, 20 Oct 2025) EndedAt: 2025-10-20 23:16:55 -0400 (Mon, 20 Oct 2025) EllapsedTime: 13.2 seconds RetCode: 0 Status: OK PackageFile: SDAMS_1.29.0.tgz PackageFileSize: 1.105 MiB