Package: SCnorm Version: 1.31.1 Command: /home/biocbuild/bbs-3.22-bioc/R/bin/R CMD INSTALL SCnorm StartedAt: 2025-10-03 15:31:22 -0400 (Fri, 03 Oct 2025) EndedAt: 2025-10-03 15:31:49 -0400 (Fri, 03 Oct 2025) EllapsedTime: 26.9 seconds RetCode: 0 Status: OK