Package: SCOPE Version: 1.21.0 Command: /home/biocbuild/R/R/bin/R CMD INSTALL SCOPE StartedAt: 2025-10-20 20:50:54 -0000 (Mon, 20 Oct 2025) EndedAt: 2025-10-20 20:51:40 -0000 (Mon, 20 Oct 2025) EllapsedTime: 46.7 seconds RetCode: 0 Status: OK