Package: SCOPE Version: 1.21.0 Command: /home/biocbuild/bbs-3.22-bioc/R/bin/R CMD check --install=check:SCOPE.install-out.txt --library=/home/biocbuild/bbs-3.22-bioc/R/site-library --timings SCOPE_1.21.0.tar.gz StartedAt: 2025-10-20 04:32:29 -0400 (Mon, 20 Oct 2025) EndedAt: 2025-10-20 04:45:43 -0400 (Mon, 20 Oct 2025) EllapsedTime: 793.6 seconds RetCode: 0 Status: OK CheckDir: SCOPE.Rcheck Warnings: 0