Package: SCOPE Version: 1.21.0 Command: /Library/Frameworks/R.framework/Resources/bin/R CMD INSTALL SCOPE StartedAt: 2025-10-20 15:32:49 -0400 (Mon, 20 Oct 2025) EndedAt: 2025-10-20 15:33:42 -0400 (Mon, 20 Oct 2025) EllapsedTime: 52.8 seconds RetCode: 0 Status: OK