Package: SCOPE Version: 1.21.0 Command: /Library/Frameworks/R.framework/Resources/bin/R CMD build --keep-empty-dirs --no-resave-data SCOPE StartedAt: 2025-10-20 19:20:15 -0400 (Mon, 20 Oct 2025) EndedAt: 2025-10-20 19:33:21 -0400 (Mon, 20 Oct 2025) EllapsedTime: 785.9 seconds RetCode: 0 Status: OK PackageFile: SCOPE_1.21.0.tar.gz PackageFileSize: 391.5 KiB