Package: SCOPE Version: 1.21.0 Command: /Library/Frameworks/R.framework/Resources/bin/R CMD check --install=check:SCOPE.install-out.txt --library=/Library/Frameworks/R.framework/Resources/library --no-vignettes --timings SCOPE_1.21.0.tar.gz StartedAt: 2025-10-19 21:54:40 -0400 (Sun, 19 Oct 2025) EndedAt: 2025-10-19 21:56:56 -0400 (Sun, 19 Oct 2025) EllapsedTime: 136.6 seconds RetCode: 0 Status: OK CheckDir: SCOPE.Rcheck Warnings: 0