Package: SCOPE Version: 1.21.0 Command: /Library/Frameworks/R.framework/Resources/bin/R CMD build --keep-empty-dirs --no-resave-data SCOPE StartedAt: 2025-10-19 17:37:27 -0400 (Sun, 19 Oct 2025) EndedAt: 2025-10-19 17:40:45 -0400 (Sun, 19 Oct 2025) EllapsedTime: 197.2 seconds RetCode: 0 Status: OK PackageFile: SCOPE_1.21.0.tar.gz PackageFileSize: 391.8 KiB