Package: SCFA Version: 1.20.0 Command: /home/biocbuild/R/R/bin/R CMD check --install=check:SCFA.install-out.txt --library=/home/biocbuild/R/R/site-library --no-vignettes --timings SCFA_1.20.0.tar.gz StartedAt: 2025-11-14 14:15:37 -0000 (Fri, 14 Nov 2025) EndedAt: 2025-11-14 14:23:32 -0000 (Fri, 14 Nov 2025) EllapsedTime: 474.8 seconds RetCode: 0 Status: OK CheckDir: SCFA.Rcheck Warnings: 0