Package: SCFA Version: 1.20.0 Command: /Library/Frameworks/R.framework/Resources/bin/R CMD INSTALL SCFA StartedAt: 2025-11-03 15:14:18 -0500 (Mon, 03 Nov 2025) EndedAt: 2025-11-03 15:15:03 -0500 (Mon, 03 Nov 2025) EllapsedTime: 44.9 seconds RetCode: 0 Status: OK